BEGIN:VCALENDAR
VERSION:2.0
PRODID:-//St. Johns Tiger Bay - ECPv6.15.20//NONSGML v1.0//EN
CALSCALE:GREGORIAN
METHOD:PUBLISH
X-WR-CALNAME:St. Johns Tiger Bay
X-ORIGINAL-URL:https://stjohnstigerbay.com
X-WR-CALDESC:Events for St. Johns Tiger Bay
REFRESH-INTERVAL;VALUE=DURATION:PT1H
X-Robots-Tag:noindex
X-PUBLISHED-TTL:PT1H
BEGIN:VTIMEZONE
TZID:UTC
BEGIN:STANDARD
TZOFFSETFROM:+0000
TZOFFSETTO:+0000
TZNAME:UTC
DTSTART:20210101T000000
END:STANDARD
END:VTIMEZONE
BEGIN:VEVENT
DTSTART;TZID=UTC:20240724T113000
DTEND;TZID=UTC:20240724T130000
DTSTAMP:20260425T222704
CREATED:20240717T193630Z
LAST-MODIFIED:20240717T193707Z
UID:1092-1721820600-1721826000@stjohnstigerbay.com
SUMMARY:St. Johns Tiger Bay: July Luncheon Featuring Guest Speaker Vicky Oakes
DESCRIPTION:Hello members\, \nPlease join us for our July luncheon on Wednesday\, 7/24/24 (11:30 am – 1:00 pm)! \nVicky Oakes will be our featured speaker. Vicky is an elections professional with more than 35 years of experience conducting elections in St. Johns County. Vicky has served as the Supervisor of Elections in St. Johns County for the past 12 years\, and previously served as the Assistant Supervisor of Elections for 23 years. \nDon’t forget that members and non-members are welcome\, so feel free to invite colleagues and friends! \nPlease contact BHughes@CobbGonzalez.com or LHughes@CobbGonzalez.com with any questions. \n \n 
URL:https://stjohnstigerbay.com/events/st-johns-tiger-bay-july-luncheon-featuring-guest-speaker-vicky-oakes/
LOCATION:Ascension St. Vincent’s St. Johns County
END:VEVENT
BEGIN:VEVENT
DTSTART;TZID=UTC:20240626T113000
DTEND;TZID=UTC:20240626T130000
DTSTAMP:20260425T222704
CREATED:20240610T154849Z
LAST-MODIFIED:20240610T154849Z
UID:1080-1719401400-1719406800@stjohnstigerbay.com
SUMMARY:St. Johns Tiger Bay June Luncheon
DESCRIPTION:Join us for our June luncheon\, at Ascension St. Vincent’s St. Johns on Wednesday\, 6/26/24 at 11:30 am – 1 pm. \nLinda Thomson will be our featured speaker! \nLinda is running for school board district 5\, and has 41 years as a professional educator – from a high school math teacher to principal of two high schools. Learn more about Linda here:  https://vote4lindathomson.com/#about \nDon’t forget that members and non-members are welcome\, so feel free to invite colleagues and friends! \nPlease contact BHughes@CobbGonzalez.com or LHughes@CobbGonzalez.com with any questions. \n  \n \n\n\n\n\n\n\n\n\n\n  \nLinda Thomson\, Ed.D \nvote4LindaThomson.com \n(904) 669-2169 \n 
URL:https://stjohnstigerbay.com/events/st-johns-tiger-bay-june-luncheon/
LOCATION:Ascension St. Vincent’s St. Johns County
END:VEVENT
BEGIN:VEVENT
DTSTART;TZID=UTC:20240424T113000
DTEND;TZID=UTC:20240424T130000
DTSTAMP:20260425T222704
CREATED:20240201T144115Z
LAST-MODIFIED:20240201T144115Z
UID:1078-1713958200-1713963600@stjohnstigerbay.com
SUMMARY:St. Johns Tiger Bay: April Luncheon
DESCRIPTION:
URL:https://stjohnstigerbay.com/events/st-johns-tiger-bay-april-luncheon/
LOCATION:Ascension St. Vincent’s St. Johns County
END:VEVENT
BEGIN:VEVENT
DTSTART;TZID=UTC:20240131T113000
DTEND;TZID=UTC:20240131T130000
DTSTAMP:20260425T222704
CREATED:20231122T164140Z
LAST-MODIFIED:20231129T160324Z
UID:1060-1706700600-1706706000@stjohnstigerbay.com
SUMMARY:Tiger Bay St. Johns County January Luncheon Featuring Kim Kendall
DESCRIPTION:Join us for our January luncheon\, featuring Kim Kendall as our featured speaker! Raised as a Navy dependent\, Kim Kendall grew up on Naval Stations in places like Guantanamo Bay\, Cuba and Subic Bay\, Philippines. Kim graduated from Florida State University with a degree in Public Relations and went on to become an Air Traffic Controller for the Federal Aviation Administration. That is where she met her husband of 30 years\, Kelly\, who also worked as a controller\, and the two of them owned two dry cleaners in Jacksonville. \nIn 2001\, they moved to St. Johns County to put their children through the County’s excellent public schools. Kim’s children motivated her to become extremely active at the state level and in the community successfully addressing critical infrastructure\, education and family value issues. \nNoteworthy State work includes: writing legislation\, lobbying alongside the Florida Family Policy Council\, serving on two State-appointed education task forces\, serving as the State Education Chair for the Florida Federation of Republican Women\, Chairing a statewide literacy initiative involving 150 elementary schools and bringing on board Lt. Governor Toni Jennings as the State Literacy Ambassador. \nMore on her campaign can be found by visiting: www.VoteKimKendall.com \n  \nLuncheon location: \nAscension St. Vincent’s St. Johns County \n205 Trinity Way Hospital\nSt. Johns\,  FL  32259 \n  \nPlease contact us with any questions! \nBryan Rendzio \nBryan.Rendzio@ansbacher.net
URL:https://stjohnstigerbay.com/events/join-us-for-our-january-luncheon-featuring-kim-kendall-as-our-featured-speaker/
LOCATION:Ascension St. Vincent’s St. Johns County
END:VEVENT
BEGIN:VEVENT
DTSTART;TZID=UTC:20230920T113000
DTEND;TZID=UTC:20230920T133000
DTSTAMP:20260425T222704
CREATED:20230815T154344Z
LAST-MODIFIED:20230823T144727Z
UID:1043-1695209400-1695216600@stjohnstigerbay.com
SUMMARY:St. Johns Tiger Bay September Luncheon Featuring State Representative Tom Leek
DESCRIPTION:Join St. Johns Tiger Bay next month for our September Luncheon featuring Tom Leek as the keynote speaker! Tom is the Chief Legal Officer and Executive Vice President of Foundation Risk Partners\, Corp.\, and currently serves as a house representative for District 28. Contact us with any questions!
URL:https://stjohnstigerbay.com/events/st-johns-tiger-bay-september-luncheon/
LOCATION:Ascension St. Vincent’s St. Johns County
END:VEVENT
BEGIN:VEVENT
DTSTART;TZID=UTC:20230525T180000
DTEND;TZID=UTC:20230525T200000
DTSTAMP:20260425T222704
CREATED:20230426T143557Z
LAST-MODIFIED:20230426T143557Z
UID:1023-1685037600-1685044800@stjohnstigerbay.com
SUMMARY:Tiger Bay May Social
DESCRIPTION:Join us for our May social on Thursday\, 5/25/23! St. Johns Tiger Bay will be meeting at Treylor Park Restaurant at 6 PM. Members and non-members are welcome! Please invite friends\, collogues or family members! Contact us with any questions: Marianne Jakoby\,  (303) 885-3444\, marrianne@jakoby.com.
URL:https://stjohnstigerbay.com/events/tiger-bay-may-social/
LOCATION:Treylor Park\, 158 Marketside Avenue\, Unit 10\, Ponte Vedra Beach\, 32081\, United States
END:VEVENT
BEGIN:VEVENT
DTSTART;TZID=UTC:20230323T113000
DTEND;TZID=UTC:20230323T130000
DTSTAMP:20260425T222704
CREATED:20230306T135553Z
LAST-MODIFIED:20230323T202501Z
UID:1003-1679571000-1679576400@stjohnstigerbay.com
SUMMARY:March Luncheon: A Conversation About Growth in St. Johns County with Board of County Commission Chairman Christian Whitehurst
DESCRIPTION:Join us on Thursday\, 3/23/23 from 11:30 AM – 1:00 PM for our March luncheon! Our featured speaker is Commissioner Christian Whitehurst! \n \nCommissioner Christian Whitehurst \nA life-long Floridian\, Christian Whitehurst has been a part of the Northwest St. Johns County community for over twenty years. \nAs a job creator and business owner\, he appreciates the importance of strong leadership and understands the value of serving the community. He has worked with the United Way of St. Johns County\, Daniel Kids\, March of Dimes\, and the Special Olympics of Florida and will continue to serve with the same conviction while on the St. Johns County Board of County Commissioners. \nWith a fiscally conservative approach\, Commissioner Whitehurst is focusing on economic development\, infrastructure\, and core services while also supporting our youth\, veterans\, law enforcement\, and other first responders. He believes communication is the key to the County Commission serving the community at the highest level possible\, and always remains available to discuss how we can continue to make St. Johns County an amazing place to call home. \nChristian and his wife Courtney are now raising their two daughters\, Olivia and Hannah\, in Julington Creek and are active members of Christ’s Church. \nsource: http://www.sjcfl.us/Commissioners/Comm1.aspx#.ZAXv7nZOmUk 
URL:https://stjohnstigerbay.com/events/march-luncheon-featuring-commissioner-christian-whitehurst/
LOCATION:St. Johns County Administration Building\, 500 San Sebastian View\, St. Augustine\, FL\, 32084\, United States
END:VEVENT
BEGIN:VEVENT
DTSTART;TZID=UTC:20230223T173000
DTEND;TZID=UTC:20230223T190000
DTSTAMP:20260425T222704
CREATED:20230210T164456Z
LAST-MODIFIED:20230210T180859Z
UID:997-1677173400-1677178800@stjohnstigerbay.com
SUMMARY:Tiger Bay After Dark: February Happy Hour
DESCRIPTION:Join us for happy hour at Donovan’s Irish Pub on Thursday\, 2/23/23 at 5:30 PM! Drinks and hors d’oeuvres will be provided. Please contact us with any questions! \n  \nMarianne Jakoby \n(303) 885-3444 \nmarianne@jakoby.com \n 
URL:https://stjohnstigerbay.com/events/tiger-bay-after-dark-february-happy-hour/
LOCATION:Donovan’s Irish Pub\, 7440 US-1\, St. Augustine\, FL\, 32095\, United States
END:VEVENT
BEGIN:VEVENT
DTSTART;TZID=UTC:20230126T113000
DTEND;TZID=UTC:20230126T130000
DTSTAMP:20260425T222704
CREATED:20221212T193359Z
LAST-MODIFIED:20221212T193707Z
UID:973-1674732600-1674738000@stjohnstigerbay.com
SUMMARY:January Luncheon: Featuring Sheriff Robert A. Hardwick
DESCRIPTION:St. Johns Tiger Bay is ready to kick off 2023 with a bang! We have the pleasure of hosting Sheriff Hardwick as our special guest and luncheon speaker. Don’t miss out on our first speaking event of 2023! Please contact us with any questions. \nMarianne Jakoby: marianne@jakoby.com\, (303) 885-3444
URL:https://stjohnstigerbay.com/events/january-luncheon-featuring-sheriff-robert-a-hardwick/
LOCATION:St. Johns County Administration Building\, 500 San Sebastian View\, St. Augustine\, FL\, 32084\, United States
END:VEVENT
BEGIN:VEVENT
DTSTART;TZID=UTC:20230112T180000
DTEND;TZID=UTC:20230112T200000
DTSTAMP:20260425T222704
CREATED:20221209T200851Z
LAST-MODIFIED:20230113T192206Z
UID:951-1673546400-1673553600@stjohnstigerbay.com
SUMMARY:Tiger Bay After Dark: Social at St. Augustine Distillery
DESCRIPTION:Join St. Johns Tiger Bay for a networking happy hour at St. Augustine Distillery! This will be our first event of the new year\, and we are very excited to kick off 2023 with a bang! Feel free to invite friends and colleges to enjoy a lovely evening in St. Augustine. This event is free! \n \n             
URL:https://stjohnstigerbay.com/events/tiger-bay-after-dark-social-at-st-augustine-distillery/
LOCATION:St. Augstine Distillery\, 112 Riberia St\,\, St. Augustine\, 32084\, United States
ORGANIZER;CN="Lizzy Hughes":MAILTO:LHughes@CobbGonzalez.com
END:VEVENT
BEGIN:VEVENT
DTSTART;TZID=UTC:20221202T113000
DTEND;TZID=UTC:20221202T130000
DTSTAMP:20260425T222704
CREATED:20220926T001808Z
LAST-MODIFIED:20221130T150615Z
UID:913-1669980600-1669986000@stjohnstigerbay.com
SUMMARY:Carl Cricco - K9s for Warriors
DESCRIPTION:Tiger Bay is proud to have the December 2nd meeting at the K9s for Warriors Davis Family Mega Kennel in Ponte Vedra. The kennel has the capacity to hold 150 Service Dogs-in-training and is one of the largest kennels in the country! Their new CEO\, Carl Cricco\, is the speaker for this meeting. \n \nPrior to joining K9s\, Carl worked at the 9/11 Memorial & Museum as a senior vice president of\nmarketing\, ensuring the stories from that day were never forgotten. Living just blocks from the Twin Towers on September 11\, 2001\, that day left an indelible mark\, as it did for many. He has spent much of his career ensuring Americans never forget 9/11\, and at K9s For Warriors\, he is committed to ensuring those who fought in conflicts resulting from that day and others\, are also not forgotten. \n \nBefore taking on the role of chief executive officer\, Carl was the chief marketing and development officer at K9s for two years\, effectively sharing the incredible impact of the K9s mission on both veterans and dogs — also increasing revenues by 70% in a one-year period. Carl has spent the last ten years in executive leadership\, primarily in marketing with previous work featured by the Wall Street Journal and Advertising Week. \nEarly in his career\, Carl worked at leading media companies\, including ABC News. Cricco holds a B.A. from New York University and an M.B.A. from New York University Stern School of Business\, where he specialized in marketing. He was born and raised in Hoboken\, NJ\, and although he misses his local Italian deli and not needing a car to get around\, he wouldn’t trade the Florida sun to get those things back. He is a family man\, spending much of his free time with his two-year-old son and amazing wife Emily.
URL:https://stjohnstigerbay.com/events/carl-cricco-k9s-for-warriors/
LOCATION:Shari Duval Campus\, 114 Camp K9 Rd\, Ponte Vedra\, FL\, 32081\, United States
CATEGORIES:Monthly Meeting
ORGANIZER;CN="Lizzy Hughes":MAILTO:LHughes@CobbGonzalez.com
END:VEVENT
BEGIN:VEVENT
DTSTART;TZID=UTC:20221027T173000
DTEND;TZID=UTC:20221027T190000
DTSTAMP:20260425T222704
CREATED:20220908T164029Z
LAST-MODIFIED:20220908T165206Z
UID:838-1666891800-1666897200@stjohnstigerbay.com
SUMMARY:Tiger Bay After Dark: October Happy Hour
DESCRIPTION:Take advantage of the opportunity to get to know your fellow St. Johns community members as well as new Tiger Bay members at our October happy hour! \nWe will be meeting at Donovan’s Irish Pub at 5:30 PM. Members and non-members are welcome. There will be complimentary drinks and hors d’oeuvres provided! \nThis networking event is FREE! We hope to see you there! \nPlease contact us if you have any questions:\nLHughes@CobbGonzalez.com\n(904) 822-8001
URL:https://stjohnstigerbay.com/events/tiger-bay-october-happy-hour/
LOCATION:Donovan’s Irish Pub\, 7440 US-1\, St. Augustine\, FL\, 32095\, United States
ATTACH;FMTTYPE=image/jpeg:https://stjohnstigerbay.com/wp-content/uploads/2022/09/June-event-1-scaled.jpg
ORGANIZER;CN="Lizzy Hughes":MAILTO:LHughes@CobbGonzalez.com
END:VEVENT
BEGIN:VEVENT
DTSTART;TZID=UTC:20220922T113000
DTEND;TZID=UTC:20220922T130000
DTSTAMP:20260425T222704
CREATED:20220816T021659Z
LAST-MODIFIED:20220816T021659Z
UID:498-1663846200-1663851600@stjohnstigerbay.com
SUMMARY:September Luncheon - Vicky Oakes
DESCRIPTION:Tiger Bay welcomes Vicky Oates as our September luncheon speaker! Vicky’s career in the Election office spans 34 years. She has served as the Supervisor of Elections in St. Johns County for the past 11 years and Asst. Supervisor for 23 years. \nVicky is a hands-on supervisor who has done every job in the office (except IT!). Her broad experience provides knowledge required to lead her staff in all aspects of the operations necessary to provide quality and cost effective elections. She is committed to conducting fair\, accurate\, open\, and transparent elections\, and to ensuring the right of every voter to cast their ballot and to know that it has been counted. \nCybersecurity and protection of our network and assets are critical and remain her number one priority. She has great relationships with state and federal partners in this endeavor. \nVicky is:\nNationally Certified Election/Registration Administrator (CERA)\nState of Florida Certified Supervisor of Elections\nMaster Florida Certified Elections Professional (MFCEP) \nA Florida native who has lived in St. Johns Count for over 40 years\, Vicky counts it an honor to serve as your supervisor of Elections.
URL:https://stjohnstigerbay.com/events/september-luncheon-vicky-oakes/
LOCATION:St. Johns County Administration Building\, 500 San Sebastian View\, St. Augustine\, FL\, 32084\, United States
CATEGORIES:Monthly Meeting
ATTACH;FMTTYPE=image/jpeg:https://stjohnstigerbay.com/wp-content/uploads/2022/08/5K1B4731_Edited_240X360-2.jpg
ORGANIZER;CN="Lizzy Hughes":MAILTO:LHughes@CobbGonzalez.com
END:VEVENT
BEGIN:VEVENT
DTSTART;TZID=UTC:20220825T173000
DTEND;TZID=UTC:20220825T190000
DTSTAMP:20260425T222704
CREATED:20220816T014148Z
LAST-MODIFIED:20220816T014148Z
UID:492-1661448600-1661454000@stjohnstigerbay.com
SUMMARY:Tiger Bay After Dark: August Happy Hour
DESCRIPTION:Take advantage of the opportunity to get to know your fellow St. Johns community members as well as new Tiger Bay members at our August happy hour! \nWe will be meeting at Donovan’s Irish Pub at 5:30 PM. Members and non-members are welcome. There will be complimentary drinks and hors d’oeuvres provided! \nThis networking event is FREE! We hope to see you there! \nPlease contact us if you have any questions:\nLHughes@CobbGonzalez.com\n(904) 822-8001
URL:https://stjohnstigerbay.com/events/tiger-bay-after-dark-august-happy-hour/
LOCATION:Donovan’s Irish Pub\, 7440 US-1\, St. Augustine\, FL\, 32095\, United States
CATEGORIES:Happy Hour
ORGANIZER;CN="Lizzy Hughes":MAILTO:LHughes@CobbGonzalez.com
END:VEVENT
END:VCALENDAR