BEGIN:VCALENDAR
VERSION:2.0
PRODID:-//St. Johns Tiger Bay - ECPv6.15.20//NONSGML v1.0//EN
CALSCALE:GREGORIAN
METHOD:PUBLISH
X-WR-CALNAME:St. Johns Tiger Bay
X-ORIGINAL-URL:https://stjohnstigerbay.com
X-WR-CALDESC:Events for St. Johns Tiger Bay
REFRESH-INTERVAL;VALUE=DURATION:PT1H
X-Robots-Tag:noindex
X-PUBLISHED-TTL:PT1H
BEGIN:VTIMEZONE
TZID:UTC
BEGIN:STANDARD
TZOFFSETFROM:+0000
TZOFFSETTO:+0000
TZNAME:UTC
DTSTART:20210101T000000
END:STANDARD
END:VTIMEZONE
BEGIN:VEVENT
DTSTART;TZID=UTC:20220825T173000
DTEND;TZID=UTC:20220825T190000
DTSTAMP:20260426T031519
CREATED:20220816T014148Z
LAST-MODIFIED:20220816T014148Z
UID:492-1661448600-1661454000@stjohnstigerbay.com
SUMMARY:Tiger Bay After Dark: August Happy Hour
DESCRIPTION:Take advantage of the opportunity to get to know your fellow St. Johns community members as well as new Tiger Bay members at our August happy hour! \nWe will be meeting at Donovan’s Irish Pub at 5:30 PM. Members and non-members are welcome. There will be complimentary drinks and hors d’oeuvres provided! \nThis networking event is FREE! We hope to see you there! \nPlease contact us if you have any questions:\nLHughes@CobbGonzalez.com\n(904) 822-8001
URL:https://stjohnstigerbay.com/events/tiger-bay-after-dark-august-happy-hour/
LOCATION:Donovan’s Irish Pub\, 7440 US-1\, St. Augustine\, FL\, 32095\, United States
CATEGORIES:Happy Hour
ORGANIZER;CN="Lizzy Hughes":MAILTO:LHughes@CobbGonzalez.com
END:VEVENT
END:VCALENDAR